BEGIN:VCALENDAR
VERSION:2.0
PRODID:-//ExpressionEngine Easy iCalendar plugin//NONSGML v1.1.1//EN
BEGIN:VEVENT
UID:event
LOCATION:\, Online Event\; 3:00pm (New York)
DTSTAMP:20210221T32800Z
DTSTART;TZID=America/New_York:20200604T150000
DTEND;TZID=America/New_York:
SUMMARY:Care For The Polis: Expanding Ecologies of Care
DESCRIPTION:Rachel Adams\, Care Beyond the Human &\n\nBryony Roberts\, St
 ructures of Care: Experimental Models of Childcare 
END:VEVENT
END:VCALENDAR