BEGIN:VCALENDAR
VERSION:2.0
PRODID:-//ExpressionEngine Easy iCalendar plugin//NONSGML v1.1.1//EN
BEGIN:VEVENT
UID:event
LOCATION:\, Online Event\; 3:00pm (New York)
DTSTAMP:20210221T33600Z
DTSTART;TZID=America/New_York:20200611T150000
DTEND;TZID=America/New_York:
SUMMARY:Care For The Polis: Toxic Bodies in Place
DESCRIPTION:Samia Henni\, French Nuclear Toxicity in the Sahara &\n\nChiso
 mo Kalinga\, Narrative Stories: Understanding HIV & AIDS Amo
 ng Peri-Urban Citizens of Malawi
END:VEVENT
END:VCALENDAR