BEGIN:VCALENDAR
VERSION:2.0
PRODID:-//ExpressionEngine Easy iCalendar plugin//NONSGML v1.1.1//EN
BEGIN:VEVENT
UID:event
LOCATION:\, Online Event\; 3:00pm (New York)
DTSTAMP:20210221T33400Z
DTSTART;TZID=America/New_York:20200618T150000
DTEND;TZID=America/New_York:
SUMMARY:Care For The Polis: Ethics of Care and Space
DESCRIPTION:Kathryn Tabb\, Can Precision Medicine Care for the Polis? &\n
 \nJoy Knoblauch\, When is Social Distance? Simmel\, Park\, Boga
 rdus\, Hall\, or After
END:VEVENT
END:VCALENDAR