BEGIN:VCALENDAR
VERSION:2.0
PRODID:-//ExpressionEngine Easy iCalendar plugin//NONSGML v1.1.1//EN
BEGIN:VEVENT
UID:event
LOCATION:\, Online Event\; 3:00pm (New York)
DTSTAMP:20210221T32900Z
DTSTART;TZID=America/New_York:20200625T150000
DTEND;TZID=America/New_York:
SUMMARY:Care For The Polis: Speaking of Covid-19\, Now and in the Fut
 ure
DESCRIPTION:Speaking of Covid-19\, Now and in the Future with Rita Charon
  and Margaret Crosby-Arnold
END:VEVENT
END:VCALENDAR