BEGIN:VCALENDAR
VERSION:2.0
PRODID:-//ExpressionEngine Easy iCalendar plugin//NONSGML v1.1.1//EN
BEGIN:VEVENT
UID:event
LOCATION:\, Online Event\; 4:00pm (New York)
DTSTAMP:20210221T33300Z
DTSTART;TZID=America/New_York:20200630T160000
DTEND;TZID=America/New_York:
SUMMARY:Elizabeth Bowen: A Literary Life
DESCRIPTION:This virtual roundtable discussion will feature Patricia Lau
 rence\, author of a new biography of Elizabeth Bowen\, in conv
 ersation with Kelly Sullivan (NYU) and Emily Bloom (Columbia
 ).
END:VEVENT
END:VCALENDAR