BEGIN:VCALENDAR
VERSION:2.0
PRODID:-//ExpressionEngine Easy iCalendar plugin//NONSGML v1.1.1//EN
BEGIN:VEVENT
UID:event
LOCATION:\, Online Event\; 10:00am (New York)
DTSTAMP:20210221T33400Z
DTSTART;TZID=America/New_York:20200612T100000
DTEND;TZID=America/New_York:
SUMMARY:Uptown People’s Assembly: Facing the Raging Pandemics
DESCRIPTION:A generative space of listening and sharing amongst activist
 s\, artists and scholars for future impact.
END:VEVENT
END:VCALENDAR