BEGIN:VCALENDAR
VERSION:2.0
PRODID:-//ExpressionEngine Easy iCalendar plugin//NONSGML v1.1.1//EN
BEGIN:VEVENT
UID:event
LOCATION:\, Online Event
DTSTAMP:20210221T33800Z
DTSTART;TZID=America/New_York:20200730T123000
DTEND;TZID=America/New_York:
SUMMARY:#unsilencedpast
DESCRIPTION:A series of dialogues among Black women scholars whose publi
 c intellectual work tells the long history of global anti-ra
 cist struggle.
END:VEVENT
END:VCALENDAR