BEGIN:VCALENDAR
VERSION:2.0
PRODID:-//ExpressionEngine Easy iCalendar plugin//NONSGML v1.1.1//EN
BEGIN:VEVENT
UID:event
LOCATION:\, Virtual Event from 1:00pm - 2:15pm EDT
DTSTAMP:20210221T32700Z
DTSTART;TZID=America/New_York:20201002T130000
DTEND;TZID=America/New_York:
SUMMARY:Celebrating Recent Work by Mana Kia
DESCRIPTION:New Books in the Arts & Sciences:\n\nCelebrating Recent Work b
 y Mana Kia
END:VEVENT
END:VCALENDAR