BEGIN:VCALENDAR
VERSION:2.0
PRODID:-//ExpressionEngine Easy iCalendar plugin//NONSGML v1.1.1//EN
BEGIN:VEVENT
UID:event
LOCATION:\, Virtual Event from 12:00pm - 1:00pm EDT
DTSTAMP:20210221T33400Z
DTSTART;TZID=America/New_York:20201014T120000
DTEND;TZID=America/New_York:
SUMMARY:Celebrating Recent Work by Bernard Harcourt
DESCRIPTION:New Books in the Arts & Sciences:\n\nCelebrating Recent Work b
 y Bernard Harcourt
END:VEVENT
END:VCALENDAR