BEGIN:VCALENDAR
VERSION:2.0
PRODID:-//ExpressionEngine Easy iCalendar plugin//NONSGML v1.1.1//EN
BEGIN:VEVENT
UID:event
LOCATION:\, Virtual Event from 2:00pm - 3:00pm EST
DTSTAMP:20210221T33500Z
DTSTART;TZID=America/New_York:20201110T140000
DTEND;TZID=America/New_York:
SUMMARY:Celebrating Recent Work by Elleni Centime Zeleke
DESCRIPTION:New Books in the Arts & Sciences:\n\nCelebrating Recent Work b
 y Elleni Centime Zeleke
END:VEVENT
END:VCALENDAR