BEGIN:VCALENDAR
VERSION:2.0
PRODID:-//ExpressionEngine Easy iCalendar plugin//NONSGML v1.1.1//EN
BEGIN:VEVENT
UID:event
LOCATION:\, Virtual Event from 6:15pm - 8:45pm EST
DTSTAMP:20210221T33600Z
DTSTART;TZID=America/New_York:20201112T181500
DTEND;TZID=America/New_York:
SUMMARY:4/13 | THE ABOLITION OF SLAVERY
DESCRIPTION:Abolition Democracy 13/13 is the 6th 13/13 seminar series he
 ld over the course of the academic year at the Columbia Cen
 ter for Contemporary Critical Thought. These seminars focus\,
  each year\, on a different set of topics at the heart of con
 temporary critical thought and action in philosophy\, politic
 s\, law\, and social inquiry. The seminar for 2020-2021 will 
 focus on abolition today and will work through the different
  dimensions of contemporary arguments for abolition (regardi
 ng the prison\, the police\, and the death penalty\, but also t
 he abolition of property\, of capital\, of coverture and marit
 al dominion\, of oil\, and of borders). It will consider the h
 istory of the abolition of slavery and the lessons to be lea
 rned. It will explore the many arguments for different forms
  of abolition.
END:VEVENT
END:VCALENDAR