BEGIN:VCALENDAR
VERSION:2.0
PRODID:-//ExpressionEngine Easy iCalendar plugin//NONSGML v1.1.1//EN
BEGIN:VEVENT
UID:event
LOCATION:\, Virtual Event from 1:00pm - 2:00pm EST
DTSTAMP:20210221T32800Z
DTSTART;TZID=America/New_York:20201116T130000
DTEND;TZID=America/New_York:
SUMMARY:Celebrating Recent Work by Matthew Hart
DESCRIPTION:New Books in the Arts & Sciences:\n\nCelebrating Recent Work b
 y Matthew Hart
END:VEVENT
END:VCALENDAR