BEGIN:VCALENDAR
VERSION:2.0
PRODID:-//ExpressionEngine Easy iCalendar plugin//NONSGML v1.1.1//EN
BEGIN:VEVENT
UID:event
LOCATION:\, Virtual Event from 4:00pm - 5:00pm EST
DTSTAMP:20210221T33500Z
DTSTART;TZID=America/New_York:20201202T160000
DTEND;TZID=America/New_York:
SUMMARY:Celebrating Recent Work by Eugenia Lean
DESCRIPTION:New Books in the Arts & Sciences:\n\nCelebrating Recent Work b
 y Eugenia Lean
END:VEVENT
END:VCALENDAR