BEGIN:VCALENDAR
VERSION:2.0
PRODID:-//ExpressionEngine Easy iCalendar plugin//NONSGML v1.1.1//EN
BEGIN:VEVENT
UID:event
LOCATION:\, Virtual Event from 12:30pm - 1:30pm EDT
DTSTAMP:20210221T33400Z
DTSTART;TZID=America/New_York:20201014T123000
DTEND;TZID=America/New_York:
SUMMARY:Roy Foster “On Seamus Heaney”
DESCRIPTION:Join us for an online conversion with Professor Roy Foster
  about his new book\, On Seamus Heaney (Princeton Universit
 y Press\, 2020). Published this fall\, On Seamus Heaney is a
  vivid and original account of one of Ireland’s greatest 
 poets by an acclaimed Irish historian and literary biographe
 r. Professor Foster will be in conversation with NYU's Dr. 
 Kelly Sullivan. 
END:VEVENT
END:VCALENDAR