BEGIN:VCALENDAR
VERSION:2.0
PRODID:-//ExpressionEngine Easy iCalendar plugin//NONSGML v1.1.1//EN
BEGIN:VEVENT
UID:event
LOCATION:\, Virtual Event from 6:00pm - 7:00pm EDT
DTSTAMP:20210221T33900Z
DTSTART;TZID=America/New_York:20200929T180000
DTEND;TZID=America/New_York:
SUMMARY:Book launch and panel discussion: The Perfect Fascist by Vic
 toria de Grazia
DESCRIPTION:The Perfect Fascist (Harvard University Press\, 2020) tells 
 the story of Attilio Teruzzi\, an Italian army officer who be
 came a commander of the Blackshirts and a colonial administ
 rator under Mussolini. The book analyzes\, through Teruzzi's 
 career and personal history\, the inner workings of Italian f
 ascism. It also explores the issues of ultra-nationalism\, st
 rong men\, and racial conflict\, which remain sadly relevant i
 n today's political discourse.  
END:VEVENT
END:VCALENDAR