BEGIN:VCALENDAR
VERSION:2.0
PRODID:-//ExpressionEngine Easy iCalendar plugin//NONSGML v1.1.1//EN
BEGIN:VEVENT
UID:event
LOCATION:\, Virtual Event from 4:30pm - 5:30pm EDT
DTSTAMP:20210221T33000Z
DTSTART;TZID=America/New_York:20200923T163000
DTEND;TZID=America/New_York:
SUMMARY:Care for the Polis: Listening to Covid-19: Oral Histories of
  New York in Pandemic
DESCRIPTION:The COVID-19 pandemic is the gravest infectious disease cris
 is the United States has faced since the Influenza pandemic 
 of 1918\, and we fear that it will not be the last. This pane
 l will feature the work that a team of sociologists\, oral hi
 storians\, and anthropologists at Columbia University’s IN
 CITE and the Oral History Archives at Columbia is develop
 ing to archive and document New York City’s experience of 
 the pandemic.
END:VEVENT
END:VCALENDAR