BEGIN:VCALENDAR
VERSION:2.0
PRODID:-//ExpressionEngine Easy iCalendar plugin//NONSGML v1.1.1//EN
BEGIN:VEVENT
UID:event
LOCATION:\, Virtual Event from 2:15pm - 3:30pm EDT
DTSTAMP:20210221T32900Z
DTSTART;TZID=America/New_York:20201020T141500
DTEND;TZID=America/New_York:
SUMMARY:A Medical Disaster and its Aftermaths: The Quest for Sleepin
 g Sickness Eradication
DESCRIPTION: \n\nA Medical Disaster and its Aftermaths: The Quest for Sle
 eping Sickness Eradication in Colonial Africa\n\nA talk by Gui
 llaume Lachenal\, moderated by Thomas Dodman
END:VEVENT
END:VCALENDAR