BEGIN:VCALENDAR
VERSION:2.0
PRODID:-//ExpressionEngine Easy iCalendar plugin//NONSGML v1.1.1//EN
BEGIN:VEVENT
UID:event
LOCATION:\, Virtual Event from 6:00pm - 7:00pm EST
DTSTAMP:20210221T33200Z
DTSTART;TZID=America/New_York:20201112T180000
DTEND;TZID=America/New_York:
SUMMARY:Celebrating Recent Work by Casey Blake\, Daniel H. Borus\, and
  Howard Brick
DESCRIPTION:New Books in the Arts & Sciences:\n\nCelebrating Recent Work b
 y Casey Blake\, Daniel H. Borus\, and Howard Brick
END:VEVENT
END:VCALENDAR