BEGIN:VCALENDAR
VERSION:2.0
PRODID:-//ExpressionEngine Easy iCalendar plugin//NONSGML v1.1.1//EN
BEGIN:VEVENT
UID:event
LOCATION:\, Virtual Event from 9:30am - 5:30pm EST
DTSTAMP:20210221T33200Z
DTSTART;TZID=America/New_York:20201105T93000
DTEND;TZID=America/New_York:
SUMMARY:Feed the Fire: A Cyber Symposium in Honor of Geri Allen
DESCRIPTION:Feed the Fire: A Cyber Symposium in Honor of Geri Allen cele
 brates the work of the late pianist\, composer\, improvisor\, a
 nd educator and serves as a launch for a special issue of t
 he journal Jazz and Culture\, “The Power of Geri Allen.
  Feed the Fire focuses on Allen’s work in music as a per
 former\, composer\, teacher\, activist\, and mentor\, and feature
 s a keynote event with Terri Lyne Carrington (Berklee Colleg
 e of Music)\, Angela Davis (University of California\, Santa C
 ruz)\, Gina Dent (University of California\, Santa Cruz)\, and 
 Farah Jasmine Griffin (Columbia University).
END:VEVENT
END:VCALENDAR