BEGIN:VCALENDAR
VERSION:2.0
PRODID:-//ExpressionEngine Easy iCalendar plugin//NONSGML v1.1.1//EN
BEGIN:VEVENT
UID:event
LOCATION:\, Virtual Event from 2:00pm - 3:00pm EDT
DTSTAMP:20210221T32900Z
DTSTART;TZID=America/New_York:20201027T140000
DTEND;TZID=America/New_York:
SUMMARY:Apocalypse Pending: Religion\, Politics\, and Social Media (Pa
 nel 2)
DESCRIPTION:“Apocalypse Pending: Religion\, Politics\, and Social Media
  explores the growing popularity of conspiracy thinking in
  our current moment and its place in the history of religiou
 s movements\, particularly in the US context.  It considers 
 how new media technologies have made it possible for the dis
 semination of such thinking on a scale unimaginable in the p
 ast\, how the moral panic it generates is impacting social an
 d political life worldwide\, and whether there are measures a
 vailable to control its spread or mitigate its effects.  
END:VEVENT
END:VCALENDAR