BEGIN:VCALENDAR
VERSION:2.0
PRODID:-//ExpressionEngine Easy iCalendar plugin//NONSGML v1.1.1//EN
BEGIN:VEVENT
UID:event
LOCATION:\, Virtual Event from 11:00am - 12:30pm EDT
DTSTAMP:20210221T33100Z
DTSTART;TZID=America/New_York:20201022T110000
DTEND;TZID=America/New_York:
SUMMARY:On the Edge of the Settled World
DESCRIPTION:Led by anthropologist\,Â Rosalind Morris\, the CGT project onÂ
  UnsettlementÂ aims to enable critical thought and a just re
 sponse to issues that transcend the category of migrancy and
  the issues of border security. Beyond the false dichotomy o
 f voluntary or forced movement\, in areas where border regime
 s are mutating and climate change is precipitating profound 
 demographic shifts\, the project brings together scholars\, po
 licy makers\, journalists and artists in forums that aim to i
 nform and to foster new approaches to the challenges of our 
 present and the future.
END:VEVENT
END:VCALENDAR