BEGIN:VCALENDAR
VERSION:2.0
PRODID:-//ExpressionEngine Easy iCalendar plugin//NONSGML v1.1.1//EN
BEGIN:VEVENT
UID:event
LOCATION:\, Virtual Event at 11am (EST)\, 4pm (Irish time)
DTSTAMP:20210221T33800Z
DTSTART;TZID=America/New_York:20201105T110000
DTEND;TZID=America/New_York:
SUMMARY:The US Election: Perspectives and Prospects
DESCRIPTION:This online panel discussion will review the outcome of the 
 US election\, the major issues that have faced the electorate
  in 2020\, the campaign\, and ways forward for the country. 
END:VEVENT
END:VCALENDAR