BEGIN:VCALENDAR
VERSION:2.0
PRODID:-//ExpressionEngine Easy iCalendar plugin//NONSGML v1.1.1//EN
BEGIN:VEVENT
UID:event
LOCATION:\, Virtual Event at 12:00pm (EST)
DTSTAMP:20210221T32800Z
DTSTART;TZID=America/New_York:20201210T120000
DTEND;TZID=America/New_York:
SUMMARY:Storytelling and Spatial Violence
DESCRIPTION:Please join us for a film and discussion series on the impac
 ts of gentrification\, development\, and other forms of spatia
 l violence. The Public Humanities Initiative at the SOF/Heym
 an presents four events exploring architectural and territor
 ial planning as instruments of violence\, and the activists t
 hat seek to use visual and narrative storytelling as a way t
 o reclaim spatial rights. The films we will highlight not on
 ly serve to reflect on the contemporary global context of sp
 atial violence\, they also serve as instances where artistic 
 and humanistic production engage in spatial activism.
END:VEVENT
END:VCALENDAR