BEGIN:VCALENDAR
VERSION:2.0
PRODID:-//ExpressionEngine Easy iCalendar plugin//NONSGML v1.1.1//EN
BEGIN:VEVENT
UID:event
LOCATION:\, Virtual Event at 2:00pm (EST)
DTSTAMP:20210221T33700Z
DTSTART;TZID=America/New_York:20201209T140000
DTEND;TZID=America/New_York:
SUMMARY:Looking For Langston: A Film Screening Celebrating Queer Har
 lem
DESCRIPTION:Isaac Julien’s Looking for Langston at 30: A Film Screenin
 g and Roundtable Celebrating Queer Harlem\, in support of Har
 lem Renaissance 100
END:VEVENT
END:VCALENDAR