BEGIN:VCALENDAR
VERSION:2.0
PRODID:-//ExpressionEngine Easy iCalendar plugin//NONSGML v1.1.1//EN
BEGIN:VEVENT
UID:event
LOCATION:\, Virtual Event at 10:30am (EST)
DTSTAMP:20210221T32600Z
DTSTART;TZID=America/New_York:20201211T103000
DTEND;TZID=America/New_York:
SUMMARY:Light in Dark Times: Alisse Waterston & Charlotte Corden in 
 Conversation with Naeem Mohaiemen
DESCRIPTION:The Society of Fellows and Heyman Center for the Humanities 
 is pleased to present Alisse Waterston and Charlotte Corden 
 in conversation with Naeem Mohaiemen\, Mellon Teaching Fellow
  in the Society of Fellows in the Humanities and Lecturer in
  Department of Anthropology and Institute for Comparative Li
 terature & Society.
END:VEVENT
END:VCALENDAR