BEGIN:VCALENDAR
VERSION:2.0
PRODID:-//ExpressionEngine Easy iCalendar plugin//NONSGML v1.1.1//EN
BEGIN:VEVENT
UID:event
LOCATION:\, Virtual Event at 6:15pm (EDT)
DTSTAMP:20210221T20700Z
DTSTART;TZID=America/New_York:20210414T181500
DTEND;TZID=America/New_York:
SUMMARY:Celebrating Recent Work by Hamid Dabashi
DESCRIPTION:New Books in the Arts & Sciences:\n\nCelebrating Recent Work b
 y Hamid Dabashi
END:VEVENT
END:VCALENDAR