BEGIN:VCALENDAR
VERSION:2.0
PRODID:-//ExpressionEngine Easy iCalendar plugin//NONSGML v1.1.1//EN
BEGIN:VEVENT
UID:event
LOCATION:\, Virtual Event at 6:15pm (EST)
DTSTAMP:20210221T30100Z
DTSTART;TZID=America/New_York:20210203T181500
DTEND;TZID=America/New_York:
SUMMARY:Celebrating Recent Work by Dustin Stewart
DESCRIPTION:New Books in the Arts & Sciences:\n\nCelebrating Recent Work b
 y Dustin Stewart
END:VEVENT
END:VCALENDAR