BEGIN:VCALENDAR
VERSION:2.0
PRODID:-//ExpressionEngine Easy iCalendar plugin//NONSGML v1.1.1//EN
BEGIN:VEVENT
UID:event
LOCATION:\, Virtual Event at 1:00pm (EST)
DTSTAMP:20210221T20600Z
DTSTART;TZID=America/New_York:20210226T130000
DTEND;TZID=America/New_York:
SUMMARY:Celebrating Recent Work by Kaiama L. Glover
DESCRIPTION:New Books in the Arts & Sciences:\n\nCelebrating Recent Work b
 y Kaiama L. Glover
END:VEVENT
END:VCALENDAR