BEGIN:VCALENDAR
VERSION:2.0
PRODID:-//ExpressionEngine Easy iCalendar plugin//NONSGML v1.1.1//EN
BEGIN:VEVENT
UID:event
LOCATION:\, Virtual Event at 1:00pm (EDT)
DTSTAMP:20210221T22000Z
DTSTART;TZID=America/New_York:20210326T130000
DTEND;TZID=America/New_York:
SUMMARY:Celebrating Recent Work by Reinhold Martin
DESCRIPTION:New Books in the Arts & Sciences:\n\nCelebrating Recent Work b
 y Reinhold Martin
END:VEVENT
END:VCALENDAR