BEGIN:VCALENDAR
VERSION:2.0
PRODID:-//ExpressionEngine Easy iCalendar plugin//NONSGML v1.1.1//EN
BEGIN:VEVENT
UID:event
LOCATION:\, Virtual Event at 3:00pm (EST)
DTSTAMP:20210221T33600Z
DTSTART;TZID=America/New_York:20210105T150000
DTEND;TZID=America/New_York:
SUMMARY:Fiction/Biography: A Conversation with Nuala O’Connor and 
 Eibhear Walshe
DESCRIPTION:This conversation brings together two novelists who thread t
 he needle between fiction and biography. Nuala O’Connor’
 s Nora: A Love Story of Nora and James Joyce (HarperCollins)
  and Eibhear Walshe’s The Last Day at Bowen’s Court (Som
 erville Press) are told from the point of view of two very d
 ifferent Irishwomen—Nora Barnacle and Elizabeth Bowen—an
 d draw from biographical material but are not beholden to it
 . In this discussion moderated by Heather Bryant Jordan\, the
  authors will consider the relationship between history and 
 fiction\, writing writer’s lives\, and writing women’s liv
 es.
END:VEVENT
END:VCALENDAR