BEGIN:VCALENDAR
VERSION:2.0
PRODID:-//ExpressionEngine Easy iCalendar plugin//NONSGML v1.1.1//EN
BEGIN:VEVENT
UID:event
LOCATION:\, Virtual Event at 6:00pm (EST)
DTSTAMP:20210221T30100Z
DTSTART;TZID=America/New_York:20210215T180000
DTEND;TZID=America/New_York:
SUMMARY:Book Launch Roundtable Alison Piepmeier’s Unexpected: Pare
 nting\, Prenatal Testing\, and Down Syndrome
DESCRIPTION:Based on interviews with parents of children with Down syndr
 ome\, as well as women who terminated their pregnancies becau
 se their fetus was identified as having the condition\, Unex
 pected paints an intimate\, nuanced picture of reproductive 
 choice in today’s world. Piepmeier takes us inside her own
  daughter’s life\, showing how Down syndrome is misundersto
 od\, stigmatized\, and condemned\, particularly in the context 
 of prenatal testing.
END:VEVENT
END:VCALENDAR