BEGIN:VCALENDAR
VERSION:2.0
PRODID:-//ExpressionEngine Easy iCalendar plugin//NONSGML v1.1.1//EN
BEGIN:VEVENT
UID:event
LOCATION:\, Virtual Event at 6:00pm (EST)
DTSTAMP:20210221T30100Z
DTSTART;TZID=America/New_York:20210209T180000
DTEND;TZID=America/New_York:
SUMMARY:Celebrating Recent Work by Khatchig Mouradian
DESCRIPTION:New Books in the Arts & Sciences:\n\nCelebrating Recent Work b
 y Khatchig Mouradian
END:VEVENT
END:VCALENDAR