BEGIN:VCALENDAR
VERSION:2.0
PRODID:-//ExpressionEngine Easy iCalendar plugin//NONSGML v1.1.1//EN
BEGIN:VEVENT
UID:event
LOCATION:\, Virtual Event at 4:00pm (EST)
DTSTAMP:20210221T33900Z
DTSTART;TZID=America/New_York:20201217T160000
DTEND;TZID=America/New_York:
SUMMARY:Unnatural Disasters: Contextualizing Hurricanes Eta and Iota
  from the Afro-Indigenous Moskitia
DESCRIPTION:In the month of November\, two Category 4 hurricanes struck t
 he Afro-Indigenous Moskitia region of Central America -- a r
 egion that was already in the throes of a COVID-19 outbreak.
  In this event\, two Miskitu activists and one Afro-Creole po
 litical leader from the region reflect on the wider sociopol
 itical and economic context giving shape to the hurricanes a
 nd their aftermath.
END:VEVENT
END:VCALENDAR