BEGIN:VCALENDAR
VERSION:2.0
PRODID:-//ExpressionEngine Easy iCalendar plugin//NONSGML v1.1.1//EN
BEGIN:VEVENT
UID:event
LOCATION:\, Virtual Event at 12:00pm (EST)
DTSTAMP:20210221T32900Z
DTSTART;TZID=America/New_York:20210129T120000
DTEND;TZID=America/New_York:
SUMMARY:How to Make a Scholarly Podcast: A three-session workshop on
  podcasting skills
DESCRIPTION:Do you listen to podcasts? Have you ever thought about makin
 g your own? What about a podcast that connects to your resea
 rch\, studies or academic interests in some way? If so\, these
  workshops are for you! While making a podcast has never be
 en simpler on a technological level\, the intellectual skills
  needed to make a scholarly podcast are less obvious but all
  the more important for success. These workshops will guide 
 you through the intellectual skills needed at each stage of 
 the podcast production process.
END:VEVENT
END:VCALENDAR