BEGIN:VCALENDAR
VERSION:2.0
PRODID:-//ExpressionEngine Easy iCalendar plugin//NONSGML v1.1.1//EN
BEGIN:VEVENT
UID:event
LOCATION:\, Virtual Event at 6:15pm (EST)
DTSTAMP:20210221T33800Z
DTSTART;TZID=America/New_York:20210121T181500
DTEND;TZID=America/New_York:
SUMMARY:8/13 | ABOLISH THE FEDERAL DEATH PENALTY!
DESCRIPTION:In this seminar\, we will explore the hidden damage that deat
 h sentences and executions wreak on family members of the co
 ndemned\, wardens and prison guards\, attorneys\, chaplains\, an
 d others. The hidden traumas have\, so far\, received too litt
 le attention in the long struggle to abolish the death penal
 ty. And we turn to the abolition of the federal death penalt
 y under the presidency of Joseph Biden.
END:VEVENT
END:VCALENDAR