BEGIN:VCALENDAR
VERSION:2.0
PRODID:-//ExpressionEngine Easy iCalendar plugin//NONSGML v1.1.1//EN
BEGIN:VEVENT
UID:event
LOCATION:\, Virtual Event at 6:15pm (EST)
DTSTAMP:20210221T30200Z
DTSTART;TZID=America/New_York:20210204T181500
DTEND;TZID=America/New_York:
SUMMARY:9/13 | PRISON ABOLITION
DESCRIPTION:This session will discuss the decades-long effort to abolish
  prisons spearheaded by Angela Davis and Critical Resistance
 . It will also broach the topic of the deinstitutionalizatio
 n of asylums and mental hospitals in the 1960s\, which prefig
 ured the abolition of total institutions\, but also points to
  certain risks and pitfalls of abolitionism.
END:VEVENT
END:VCALENDAR