BEGIN:VCALENDAR
VERSION:2.0
PRODID:-//ExpressionEngine Easy iCalendar plugin//NONSGML v1.1.1//EN
BEGIN:VEVENT
UID:event
LOCATION:\, Virtual Event at 6:15pm (EST)
DTSTAMP:20210221T20600Z
DTSTART;TZID=America/New_York:20210225T181500
DTEND;TZID=America/New_York:
SUMMARY:10/13 | ABOLISHING FAMILY POLICING
DESCRIPTION:This seminar will explore the campaign to end the family pol
 icing system (child protection services and foster care) wit
 h one of the nation’s leading thinkers on the topic\, Profe
 ssor Dorothy Roberts.
END:VEVENT
END:VCALENDAR