BEGIN:VCALENDAR
VERSION:2.0
PRODID:-//ExpressionEngine Easy iCalendar plugin//NONSGML v1.1.1//EN
BEGIN:VEVENT
UID:event
LOCATION:\, Virtual Event at 6:15pm (EST)
DTSTAMP:20210221T22100Z
DTSTART;TZID=America/New_York:20210311T181500
DTEND;TZID=America/New_York:
SUMMARY:11/13 | ABOLISH OIL
DESCRIPTION:“Oil abolition implies social transformation—a systemic 
 change toward collective freedom\,” Reinhold Martin writes.
  In this seminar\, we will explore the relation between fossi
 l fuels and social inequality\, and focus on efforts\, like th
 e Green New Deal\, to abolish oil dependency.
END:VEVENT
END:VCALENDAR