BEGIN:VCALENDAR
VERSION:2.0
PRODID:-//ExpressionEngine Easy iCalendar plugin//NONSGML v1.1.1//EN
BEGIN:VEVENT
UID:event
LOCATION:\, Virtual Event at 6:15pm (EDT)
DTSTAMP:20210221T20300Z
DTSTART;TZID=America/New_York:20210401T181500
DTEND;TZID=America/New_York:
SUMMARY:12/13 | OPEN BORDERS
DESCRIPTION:“The feudal system was once deeply entrenched. So was the 
 institution of slavery. For a long time\, there was no real h
 ope of changing those social systems. Yet criticism was stil
 l appropriate\,” Joseph Carens argues. It is time\, now\, to 
 ask fundamental questions about the justice of borders. This
  seminar will explore those questions in all their complexit
 y\, including the fraught relation between borders and coloni
 alism. We will also discuss the movement to Abolish I.C.E.
END:VEVENT
END:VCALENDAR