BEGIN:VCALENDAR
VERSION:2.0
PRODID:-//ExpressionEngine Easy iCalendar plugin//NONSGML v1.1.1//EN
BEGIN:VEVENT
UID:event
LOCATION:\, Virtual Event at 6:15pm (EDT)
DTSTAMP:20210221T20300Z
DTSTART;TZID=America/New_York:20210422T181500
DTEND;TZID=America/New_York:
SUMMARY:13/13 | AN ABOLITIONIST FUTURE
DESCRIPTION:We end our Abolition 13/13 series looking forward to the pos
 sibility of an abolitionist future with special consideratio
 n of reparations. What will it take to get there? What will 
 it look like? How soon will we be there?
END:VEVENT
END:VCALENDAR