BEGIN:VCALENDAR
VERSION:2.0
PRODID:-//ExpressionEngine Easy iCalendar plugin//NONSGML v1.1.1//EN
BEGIN:VEVENT
UID:event
LOCATION:\, Virtual Event at 6:15pm (EST)
DTSTAMP:20210221T30200Z
DTSTART;TZID=America/New_York:20210211T181500
DTEND;TZID=America/New_York:
SUMMARY:Celebrating Recent Work by Clémence Boulouque
DESCRIPTION:New Books in the Arts & Sciences:\n\nCelebrating Recent Work b
 y Clémence Boulouque
END:VEVENT
END:VCALENDAR