BEGIN:VCALENDAR
VERSION:2.0
PRODID:-//ExpressionEngine Easy iCalendar plugin//NONSGML v1.1.1//EN
BEGIN:VEVENT
UID:event
LOCATION:\, Virtual Event at 10:10am (EST)
DTSTAMP:20210221T33600Z
DTSTART;TZID=America/New_York:20210129T101000
DTEND;TZID=America/New_York:
SUMMARY:Book Launch: Manan Ahmed’s The Loss of Hindustan
DESCRIPTION:A panel discussion with Manan Ahmed (History) on his new bo
 ok The Loss of Hindustan: The Invention of India.\n\n 
END:VEVENT
END:VCALENDAR