BEGIN:VCALENDAR
VERSION:2.0
PRODID:-//ExpressionEngine Easy iCalendar plugin//NONSGML v1.1.1//EN
BEGIN:VEVENT
UID:event
LOCATION:\, Virtual Event at 6:00pm (EDT)
DTSTAMP:20210221T20200Z
DTSTART;TZID=America/New_York:20210308T180000
DTEND;TZID=America/New_York:
SUMMARY:Parenting in Pandemic with Jessica Calarco and Meryl Alper
DESCRIPTION:The coronavirus pandemic inaugurated a global shift to onlin
 e learning\, working\, and socializing. This event considers t
 he immediate and longterm effects such a move has on parents
  and on forms of mothering in particular. Our panelists will
  discuss the history\, theory\, and data of mother's health de
 cision making and pandemic-related disruptions to the family
 \, as well as of familial navigation of disability\, education
 \, and adaptive digital devices.
END:VEVENT
END:VCALENDAR