BEGIN:VCALENDAR
VERSION:2.0
PRODID:-//ExpressionEngine Easy iCalendar plugin//NONSGML v1.1.1//EN
BEGIN:VEVENT
UID:event
LOCATION:\, Virtual Event at 4:00pm (EST)
DTSTAMP:20210221T30200Z
DTSTART;TZID=America/New_York:20210217T160000
DTEND;TZID=America/New_York:
SUMMARY:Celebrating Recent Work by Margaret Schabas and Carl Wennerl
 ind
DESCRIPTION:New Books in the Arts & Sciences:\n\nCelebrating Recent Work b
 y Margaret Schabas and Carl Wennerlind
END:VEVENT
END:VCALENDAR