BEGIN:VCALENDAR
VERSION:2.0
PRODID:-//ExpressionEngine Easy iCalendar plugin//NONSGML v1.1.1//EN
BEGIN:VEVENT
UID:event
LOCATION:\, Virtual Event at 12:30pm (EST)
DTSTAMP:20210221T30200Z
DTSTART;TZID=America/New_York:20210204T123000
DTEND;TZID=America/New_York:
SUMMARY:Kevin Barry’s “That Old Country Music” Book Event
DESCRIPTION:From the author of the wildly acclaimed Night Boat to Tangi
 er\, one of the New York Times’ 10 Best Books of 2019\, stor
 ies of rural Ireland in the classic mode: full of love\, mela
 ncholy and magic\, bedecked in some of the most gorgeous pros
 e being written today. 
END:VEVENT
END:VCALENDAR