BEGIN:VCALENDAR
VERSION:2.0
PRODID:-//ExpressionEngine Easy iCalendar plugin//NONSGML v1.1.1//EN
BEGIN:VEVENT
UID:event
LOCATION:\, Virtual Event from 1:00pm - 2:00pm EST
DTSTAMP:20210221T30100Z
DTSTART;TZID=America/New_York:20210211T130000
DTEND;TZID=America/New_York:
SUMMARY:Palestinian Feminist Discourses: Contemporary Views and Emer
 ging Movements
DESCRIPTION:LIFTA x CPS presents Palestinian Feminist Discourses: Contem
 porary Views and Emerging Movements\, a live panel as part of
  the program 'Palestine\, IN-BETWEEN'. Joining us from Gaza\, 
 Haifa\, and Ramallah\, the panel introduces new feminist movem
 ents that are gaining momentum across historic Palestine. It
 's a discussion highlighting shared desires and the varying 
 approaches to organizing and mobilizing based on locality an
 d the different faces of Israeli oppression. Topics will inc
 lude contemporary political feminist movements\, queer femini
 st activism\, and feminism as a human rights issue. It addres
 ses how these new movements have been inspired by or\, on the
  contrary\, depart from past Palestinian feminist movements
END:VEVENT
END:VCALENDAR