BEGIN:VCALENDAR
VERSION:2.0
PRODID:-//ExpressionEngine Easy iCalendar plugin//NONSGML v1.1.1//EN
BEGIN:VEVENT
UID:event
LOCATION:\, Virtual Event from 1:00pm - 2:00pm EST
DTSTAMP:20210221T30100Z
DTSTART;TZID=America/New_York:20210218T130000
DTEND;TZID=America/New_York:
SUMMARY:Outsider Art (Art Brut): Symbolism of Body Adornments
DESCRIPTION:Lucienne Peiry in conversation with Camille Robcis
END:VEVENT
END:VCALENDAR