BEGIN:VCALENDAR
VERSION:2.0
PRODID:-//ExpressionEngine Easy iCalendar plugin//NONSGML v1.1.1//EN
BEGIN:VEVENT
UID:event
LOCATION:\, Virtual Event at 1:00pm (EDT)
DTSTAMP:20210221T20000Z
DTSTART;TZID=America/New_York:20210318T130000
DTEND;TZID=America/New_York:
SUMMARY:A Conversation about films by Paulin Vieyra\, with Stéphane 
 Vieyra\, Souleymane Bachir Diagne and Mama
DESCRIPTION:Stéphane Vieyra\, son of Beninese/Senegalese filmmaker Pauli
 n Soumanou Vieyra\, joins Souleymane Bachir Diagne and Mamado
 u Diouf to discuss Africa on the Seine and other short doc
 umentary films made by Vieyra\,  considered the first sub-Sa
 haran African film director. Their discussion will explore h
 is films\, produced between 1955 and 1981\, as a key oeuvre of
  this period of African independence and nation-building. 
END:VEVENT
END:VCALENDAR