BEGIN:VCALENDAR
VERSION:2.0
PRODID:-//ExpressionEngine Easy iCalendar plugin//NONSGML v1.1.1//EN
BEGIN:VEVENT
UID:event
LOCATION:\, Virtual Event at 1:00pm (EDT)
DTSTAMP:20210221T22100Z
DTSTART;TZID=America/New_York:20210325T130000
DTEND;TZID=America/New_York:
SUMMARY:A Conversation about Faat Kiné by Ousmane Sembene
DESCRIPTION:In this conversation about Faat Kiné\, a 2001 film directed
  by Senegalese filmmaker Ousmane Sembene\, we will be joined 
 by Mariama Baldé\, a Senegalese actress who plays a role in 
 this film\, and who previously studied the films of Ousmane S
 embene\, and by Columbia Professors Souleymane Bachir Diagne 
 and Mamadou Diouf.  
END:VEVENT
END:VCALENDAR