BEGIN:VCALENDAR
VERSION:2.0
PRODID:-//ExpressionEngine Easy iCalendar plugin//NONSGML v1.1.1//EN
BEGIN:VEVENT
UID:event
LOCATION:The Heyman Center\, Second Floor Common Room
DTSTAMP:20210221T33400Z
DTSTART;TZID=America/New_York:20110126T181500
DTEND;TZID=America/New_York:
SUMMARY:Whither Contemporary Art
DESCRIPTION:Thomas Crow\, Rosalie Solow Professor of Modern Art at New Yo
 rk University\, will speak on "Whither Contemporary Art?" Tim
  Griffin\, Editor-at-large at Artforum\, will respond.
END:VEVENT
END:VCALENDAR